BEGIN:VCALENDAR
VERSION:2.0
CALSCALE:GREGORIAN
PRODID:-//Diputació de Barcelona//DibaCMS//EN
BEGIN:VEVENT
UID:2435
DTSTAMP:20260421T192323
DTSTART:20170321T000000
DTEND:20170321T000000
SUMMARY:DIA INTERNACIONAL DE LES DONES - MÚSICA I POESIA
LOCATION:
METHOD:PUBLISH
X-WR-CALNAME:info.pont@elpont.cat
X-WR-TIMEZONE:Europe/Madrid
DESCRIPTION:Veniu a gaudir de la música dels Trobadors del Bages i la màgia de lectura de poemes en veu alta càrrec de diferents generacions de dones del Pont de Vilomara i Rocafort!!
 
Aquesta activitat d'inclou dins els actes de celebració del Dia de la Dona i el Dia Mundial de la Poesia!
URI:https://www.elpont.cat/actualitat/agenda/dia-internacional-de-les-dones-musica-i-poesia.html
CLASS:PUBLIC
END:VEVENT
END:VCALENDAR
