BEGIN:VCALENDAR
VERSION:2.0
CALSCALE:GREGORIAN
PRODID:-//Diputació de Barcelona//DibaCMS//EN
BEGIN:VEVENT
UID:2436
DTSTAMP:20260422T043155
DTSTART:20170322T000000
DTEND:20170322T000000
SUMMARY:XERRADA-TALLER EDUCAR SENSE CRIDAR
LOCATION:
METHOD:PUBLISH
X-WR-CALNAME:info.pont@elpont.cat
X-WR-TIMEZONE:Europe/Madrid
DESCRIPTION:A càrrec d'Alba Castellví.
URI:https://www.elpont.cat/actualitat/agenda/2436-xerrada-taller-educar-sense-cridar.html
CLASS:PUBLIC
END:VEVENT
END:VCALENDAR
