BEGIN:VCALENDAR
VERSION:2.0
CALSCALE:GREGORIAN
PRODID:-//Diputació de Barcelona//DibaCMS//EN
BEGIN:VEVENT
UID:2437
DTSTAMP:20260421T215509
DTSTART:20170323T000000
DTEND:20170323T000000
SUMMARY:PROGRAMA GENT GRAN ACTIVA: BALL AMB ANDREU
LOCATION:
METHOD:PUBLISH
X-WR-CALNAME:info.pont@elpont.cat
X-WR-TIMEZONE:Europe/Madrid
DESCRIPTION:
URI:https://www.elpont.cat/actualitat/agenda/2437-programa-gent-gran-activa-ball-amb-andreu.html
CLASS:PUBLIC
END:VEVENT
END:VCALENDAR
