BEGIN:VCALENDAR
VERSION:2.0
CALSCALE:GREGORIAN
PRODID:-//Diputació de Barcelona//DibaCMS//EN
BEGIN:VEVENT
UID:2438
DTSTAMP:20260421T233302
DTSTART:20170326T000000
DTEND:20170326T000000
SUMMARY:VUITENA CAMINADA POPULAR &quot;EL TUC&quot;
LOCATION:
METHOD:PUBLISH
X-WR-CALNAME:info.pont@elpont.cat
X-WR-TIMEZONE:Europe/Madrid
DESCRIPTION:
URI:https://www.elpont.cat/actualitat/agenda/2438-vuitena-caminada-popular-andquotel-tucandquot.html
CLASS:PUBLIC
END:VEVENT
END:VCALENDAR
