BEGIN:VCALENDAR
VERSION:2.0
CALSCALE:GREGORIAN
PRODID:-//Diputació de Barcelona//DibaCMS//EN
BEGIN:VEVENT
UID:2441
DTSTAMP:20260421T204116
DTSTART:20170421T000000
DTEND:20170421T000000
SUMMARY:CINQUENA MARATÓ DE CONTES DE SANT JORDI
LOCATION:
METHOD:PUBLISH
X-WR-CALNAME:info.pont@elpont.cat
X-WR-TIMEZONE:Europe/Madrid
DESCRIPTION:Aquesta vegada comptarem amb la presència i llocs de:
 

Joan Cirera (Plaça Major)
Alba Santamaria (Biblioteca)
Elisa Jorba (Carrer Mestre Saura)
Blai Senabre (Plaça del Centre Cívic)

URI:https://www.elpont.cat/actualitat/agenda/2441-cinquena-marato-de-contes-de-sant-jordi.html
CLASS:PUBLIC
END:VEVENT
END:VCALENDAR
