BEGIN:VCALENDAR
VERSION:2.0
CALSCALE:GREGORIAN
PRODID:-//Diputació de Barcelona//DibaCMS//EN
BEGIN:VEVENT
UID:2443
DTSTAMP:20260421T121412
DTSTART:20170423T000000
DTEND:20170423T000000
SUMMARY:VIU EL PARC - CAMINADA POPULAR
LOCATION:
METHOD:PUBLISH
X-WR-CALNAME:info.pont@elpont.cat
X-WR-TIMEZONE:Europe/Madrid
DESCRIPTION:Caminada llarga de 17 km. Sortida des de l'Ajuntament.
 
Recorregut: El Pont de Vilomara - Casa Nova de Sant Jaume - Racó dels Manresans - Serra de Puig Gilli - Turó de Puig Gilli - Els Ermitanets - Sant Jaume de Vallhonesta i El Pont de Vilomara.
 
Caminada curta de 5 km. Sortida des de l'Ajuntament.
 
Recorregut: El Pont de Vilomara - Casa Nova - El Pont de Vilomara.
 
Hi haurà punts d'avituallament d'aigua.
 
L' entrepà s'haurà de portar de casa.
 
En el punt d'arribada hi haurà un obsequi.
URI:https://www.elpont.cat/actualitat/agenda/viu-el-parc-caminada-popular.html
CLASS:PUBLIC
END:VEVENT
END:VCALENDAR
