BEGIN:VCALENDAR
VERSION:2.0
CALSCALE:GREGORIAN
PRODID:-//Diputació de Barcelona//DibaCMS//EN
BEGIN:VEVENT
UID:2444
DTSTAMP:20260422T043046
DTSTART:20170426T000000
DTEND:20170426T000000
SUMMARY:TERTÚLIA LITERÀRIA
LOCATION:
METHOD:PUBLISH
X-WR-CALNAME:info.pont@elpont.cat
X-WR-TIMEZONE:Europe/Madrid
DESCRIPTION:Tertúlia literària sobre la novel·la "El llibre de la senyoreta Buncle" de l'escriptora escocesa D. E. Stevenson.
URI:https://www.elpont.cat/actualitat/agenda/2444-tertulia-literaria.html
CLASS:PUBLIC
END:VEVENT
END:VCALENDAR
