BEGIN:VCALENDAR
VERSION:2.0
CALSCALE:GREGORIAN
PRODID:-//Diputació de Barcelona//DibaCMS//EN
BEGIN:VEVENT
UID:2446
DTSTAMP:20260421T210354
DTSTART:20170428T000000
DTEND:20170428T000000
SUMMARY:JORNADES DE PORTES OBERTES A LA LLAR D'INFANTS MUNICIPAL
LOCATION:
METHOD:PUBLISH
X-WR-CALNAME:info.pont@elpont.cat
X-WR-TIMEZONE:Europe/Madrid
DESCRIPTION:
URI:https://www.elpont.cat/actualitat/agenda/2446-jornades-de-portes-obertes-a-la-llar-dinfants-municipal.html
CLASS:PUBLIC
END:VEVENT
END:VCALENDAR
