BEGIN:VCALENDAR
VERSION:2.0
CALSCALE:GREGORIAN
PRODID:-//Diputació de Barcelona//DibaCMS//EN
BEGIN:VEVENT
UID:2447
DTSTAMP:20260421T132648
DTSTART:20170429T000000
DTEND:20170429T000000
SUMMARY:FESTA MAJOR DE ROCAFORT - L'HORA DEL CONTE A ROCAFORT &quot;UN PAÍS DE CONTE&quot;
LOCATION:
METHOD:PUBLISH
X-WR-CALNAME:info.pont@elpont.cat
X-WR-TIMEZONE:Europe/Madrid
DESCRIPTION:Dins el programa de la Festa Major de Rocafort, la biblioteca organitza aquesta hora del conte ben especial amb en Carles Cuberes i les seves històries d' "Un país de conte".
 
Us esperem al nou Casal de Rocafort el proper dissabte 29 d'abril a les 11'30 del matí.
URI:https://www.elpont.cat/actualitat/agenda/festa-major-de-rocafort-lhora-del-conte-a-rocafort-andquotun-pais-de-conteandquot.html
CLASS:PUBLIC
END:VEVENT
END:VCALENDAR
