BEGIN:VCALENDAR
VERSION:2.0
CALSCALE:GREGORIAN
PRODID:-//Diputació de Barcelona//DibaCMS//EN
BEGIN:VEVENT
UID:2448
DTSTAMP:20260421T121237
DTSTART:20170430T000000
DTEND:20170430T000000
SUMMARY:FESTA MAJOR DE ROCAFORT - SOPAR CONCERT AMB ELS BANDARRES
LOCATION:
METHOD:PUBLISH
X-WR-CALNAME:info.pont@elpont.cat
X-WR-TIMEZONE:Europe/Madrid
DESCRIPTION:Sopar i begudes (jo porto). El Concert començarà a les 11 de la nit.
URI:https://www.elpont.cat/actualitat/agenda/festa-major-de-rocafort-sopar-concert-amb-els-bandarres.html
CLASS:PUBLIC
END:VEVENT
END:VCALENDAR
