BEGIN:VCALENDAR
VERSION:2.0
CALSCALE:GREGORIAN
PRODID:-//Diputació de Barcelona//DibaCMS//EN
BEGIN:VEVENT
UID:2449
DTSTAMP:20260422T055140
DTSTART:20170501T000000
DTEND:20170501T000000
SUMMARY:FESTA MAJOR DE ROCAFORT - ARROSSADA POPULAR
LOCATION:
METHOD:PUBLISH
X-WR-CALNAME:info.pont@elpont.cat
X-WR-TIMEZONE:Europe/Madrid
DESCRIPTION:
URI:https://www.elpont.cat/actualitat/agenda/festa-major-de-rocafort-arrossada-popular.html
CLASS:PUBLIC
END:VEVENT
END:VCALENDAR
