BEGIN:VCALENDAR
VERSION:2.0
CALSCALE:GREGORIAN
PRODID:-//Diputació de Barcelona//DibaCMS//EN
BEGIN:VEVENT
UID:2450
DTSTAMP:20260422T010433
DTSTART:20170501T000000
DTEND:20170501T000000
SUMMARY:FESTA MAJOR DE ROCAFORT - INAUGURACIÓ DEL CENTRE CÍVIC DE ROCAFORT I VEREDICTE DEL PREMI DE POESIA
LOCATION:
METHOD:PUBLISH
X-WR-CALNAME:info.pont@elpont.cat
X-WR-TIMEZONE:Europe/Madrid
DESCRIPTION:
URI:https://www.elpont.cat/actualitat/agenda/festa-major-de-rocafort-inauguracio-del-centre-civic-de-rocafort-i-veredicte-del-premi-de-poesia.html
CLASS:PUBLIC
END:VEVENT
END:VCALENDAR
