BEGIN:VCALENDAR
VERSION:2.0
CALSCALE:GREGORIAN
PRODID:-//Diputació de Barcelona//DibaCMS//EN
BEGIN:VEVENT
UID:2452
DTSTAMP:20260422T015229
DTSTART:20170507T000000
DTEND:20170507T000000
SUMMARY:PRIMER TRAIL ESCOLAR
LOCATION:
METHOD:PUBLISH
X-WR-CALNAME:info.pont@elpont.cat
X-WR-TIMEZONE:Europe/Madrid
DESCRIPTION:Informació al facebook de la Sala Polivalent (www.facebook.com/SalaPolivalent)
URI:https://www.elpont.cat/actualitat/agenda/2452-primer-trail-escolar.html
CLASS:PUBLIC
END:VEVENT
END:VCALENDAR
