BEGIN:VCALENDAR
VERSION:2.0
CALSCALE:GREGORIAN
PRODID:-//Diputació de Barcelona//DibaCMS//EN
BEGIN:VEVENT
UID:2453
DTSTAMP:20260422T003109
DTSTART:20170513T000000
DTEND:20170513T000000
SUMMARY:KM'S PER ALIMENTS - 12 HORES SOLIDÀRIES
LOCATION:
METHOD:PUBLISH
X-WR-CALNAME:info.pont@elpont.cat
X-WR-TIMEZONE:Europe/Madrid
DESCRIPTION:
URI:https://www.elpont.cat/actualitat/agenda/2453-kms-per-aliments-12-hores-solidaries.html
CLASS:PUBLIC
END:VEVENT
END:VCALENDAR
