BEGIN:VCALENDAR
VERSION:2.0
CALSCALE:GREGORIAN
PRODID:-//Diputació de Barcelona//DibaCMS//EN
BEGIN:VEVENT
UID:2454
DTSTAMP:20260422T004058
DTSTART:20170515T000000
DTEND:20170602T000000
SUMMARY:EXPOSICIÓ ITINERANT &quot;OÍDO COCINA&quot;
LOCATION:
METHOD:PUBLISH
X-WR-CALNAME:info.pont@elpont.cat
X-WR-TIMEZONE:Europe/Madrid
DESCRIPTION:Aquesta exposició itinerant és una reflexió divertida entorn de la gastronomia i el consum responsable a través de la mirada irònica de 24 humoristes gràfics!
URI:https://www.elpont.cat/actualitat/agenda/exposicio-itinerant-andquotoido-cocinaandquot.html
CLASS:PUBLIC
END:VEVENT
END:VCALENDAR
