BEGIN:VCALENDAR
VERSION:2.0
CALSCALE:GREGORIAN
PRODID:-//Diputació de Barcelona//DibaCMS//EN
BEGIN:VEVENT
UID:2455
DTSTAMP:20260421T222811
DTSTART:20170520T000000
DTEND:20170520T000000
SUMMARY:L'HORA DEL CONTE &quot;ALÍCIA PATAPAM&quot;
LOCATION:
METHOD:PUBLISH
X-WR-CALNAME:info.pont@elpont.cat
X-WR-TIMEZONE:Europe/Madrid
DESCRIPTION:L'hora del conte amb les aventures d'Alícia Patapam a càrrec de Mònica Torra.
URI:https://www.elpont.cat/actualitat/agenda/lhora-del-conte-andquotalicia-patapamandquot.html
CLASS:PUBLIC
END:VEVENT
END:VCALENDAR
