BEGIN:VCALENDAR
VERSION:2.0
CALSCALE:GREGORIAN
PRODID:-//Diputació de Barcelona//DibaCMS//EN
BEGIN:VEVENT
UID:2456
DTSTAMP:20260422T003148
DTSTART:20170521T000000
DTEND:20170521T000000
SUMMARY:SETENA ROMERIA ROCIERA DEL PONT DE  VILOMARA I ROCAFORT
LOCATION:
METHOD:PUBLISH
X-WR-CALNAME:info.pont@elpont.cat
X-WR-TIMEZONE:Europe/Madrid
DESCRIPTION:Actuacions: Coro Viña y Romero de Pacs del Penedès, Coro Esperanza Macarena de Manresa, Grupo de Sevillanas Hierbabuena “Casa de Andalucía” de Sant Vicenç de Castellet, Coro Nuevos Comienzos de Esparreguera, Coro Rociero Candela Viva del Pont de Vilomara i Rocafort.
URI:https://www.elpont.cat/actualitat/agenda/setena-romeria-rociera-del-pont-de-vilomara-i-rocafort.html
CLASS:PUBLIC
END:VEVENT
END:VCALENDAR
