BEGIN:VCALENDAR
VERSION:2.0
CALSCALE:GREGORIAN
PRODID:-//Diputació de Barcelona//DibaCMS//EN
BEGIN:VEVENT
UID:2457
DTSTAMP:20260422T003234
DTSTART:20170524T000000
DTEND:20170524T000000
SUMMARY:MASTERCLASS D'ARRANJAMENT FLORAL
LOCATION:
METHOD:PUBLISH
X-WR-CALNAME:info.pont@elpont.cat
X-WR-TIMEZONE:Europe/Madrid
DESCRIPTION:Rosa Reig, de la floristeria "Flor i Disseny" de St Vicenç de Castellet, ens ofereix en aquest taller una classe magistral on aprendrem a preparar rams i centres de flors.
URI:https://www.elpont.cat/actualitat/agenda/masterclass-darranjament-floral.html
CLASS:PUBLIC
END:VEVENT
END:VCALENDAR
