BEGIN:VCALENDAR
VERSION:2.0
CALSCALE:GREGORIAN
PRODID:-//Diputació de Barcelona//DibaCMS//EN
BEGIN:VEVENT
UID:2459
DTSTAMP:20260422T015104
DTSTART:20170525T000000
DTEND:20170525T000000
SUMMARY:XERRADA PER A PARES I MARES &quot;SEXUALITAT SANA&quot;
LOCATION:
METHOD:PUBLISH
X-WR-CALNAME:info.pont@elpont.cat
X-WR-TIMEZONE:Europe/Madrid
DESCRIPTION:
La xerrada pretén donar elements que ajudin a mares i pares a diferenciar davant de quin tipus de problema o conflicte cal estar alerta i com intervenir en aquest cas.
 

Hi haurà servei de canguratge al Casal de la Infància "El Molí".
URI:https://www.elpont.cat/actualitat/agenda/xerrada-per-a-pares-i-mares-andquotsexualitat-sanaandquot.html
CLASS:PUBLIC
END:VEVENT
END:VCALENDAR
