BEGIN:VCALENDAR
VERSION:2.0
CALSCALE:GREGORIAN
PRODID:-//Diputació de Barcelona//DibaCMS//EN
BEGIN:VEVENT
UID:2461
DTSTAMP:20260422T064525
DTSTART:20170531T000000
DTEND:20170531T000000
SUMMARY:TERTÚLIA LITERÀRIA &quot;PACTE DE SILENCI&quot;
LOCATION:
METHOD:PUBLISH
X-WR-CALNAME:info.pont@elpont.cat
X-WR-TIMEZONE:Europe/Madrid
DESCRIPTION:Tertúlia literària sobre la novel·la "Pacte de Silenci", amb la presència del seu autor Llorenç Capdevila.
URI:https://www.elpont.cat/actualitat/agenda/tertulia-literaria-andquotpacte-de-silenciandquot.html
CLASS:PUBLIC
END:VEVENT
END:VCALENDAR
