BEGIN:VCALENDAR
VERSION:2.0
CALSCALE:GREGORIAN
PRODID:-//Diputació de Barcelona//DibaCMS//EN
BEGIN:VEVENT
UID:2462
DTSTAMP:20260422T043213
DTSTART:20170603T000000
DTEND:20170603T000000
SUMMARY:MARIDATGE LITERATURA I VI - RUTA DE LES TINES A PEU DE VINYA
LOCATION:
METHOD:PUBLISH
X-WR-CALNAME:info.pont@elpont.cat
X-WR-TIMEZONE:Europe/Madrid
DESCRIPTION:Descobreix les Tines de la Vall del Flequer en una ruta a peu i gaudeix de la seva riquesa patrimonial, geològica, literària i gastronòmica! Visita guiada a les tines (6 km), lectura de fragments de novel·les ambientades en el món vitivinícola i tast de vins DO Pla de Bages i productes locals.
 
L’activitat s’emmarca dins el programa de la Setmana de Geoparcs Europeus 2017
URI:https://www.elpont.cat/actualitat/agenda/2462-maridatge-literatura-i-vi-ruta-de-les-tines-a-peu-de-vinya.html
CLASS:PUBLIC
END:VEVENT
END:VCALENDAR
