BEGIN:VCALENDAR
VERSION:2.0
CALSCALE:GREGORIAN
PRODID:-//Diputació de Barcelona//DibaCMS//EN
BEGIN:VEVENT
UID:2463
DTSTAMP:20260422T052854
DTSTART:20170603T000000
DTEND:20170603T000000
SUMMARY:TROBADA DE GEGANTS
LOCATION:
METHOD:PUBLISH
X-WR-CALNAME:info.pont@elpont.cat
X-WR-TIMEZONE:Europe/Madrid
DESCRIPTION:COLLES CONVIDADES:
 

Borges Blanques.
Caldes d'Estrac.
Cornellà de Llobregat.
Calders.
Calafell.
El Xup (Manresa).
La Seu d'Urgell.
Martorell.
Manlleu.
Monistrol de Montserrat.
El Pont de Vilomara i Rocafort.

URI:https://www.elpont.cat/actualitat/agenda/trobada-de-gegants.html
CLASS:PUBLIC
END:VEVENT
END:VCALENDAR
