BEGIN:VCALENDAR
VERSION:2.0
CALSCALE:GREGORIAN
PRODID:-//Diputació de Barcelona//DibaCMS//EN
BEGIN:VEVENT
UID:2464
DTSTAMP:20260422T043241
DTSTART:20170606T000000
DTEND:20170606T000000
SUMMARY:L'HORA DEL CONTE &quot;JO ESTIMO&quot; AMB MUNTSA GUASCH
LOCATION:
METHOD:PUBLISH
X-WR-CALNAME:info.pont@elpont.cat
X-WR-TIMEZONE:Europe/Madrid
DESCRIPTION:Amb berenar de final de curs.
URI:https://www.elpont.cat/actualitat/agenda/lhora-del-conte-andquotjo-estimoandquot-amb-muntsa-guasch.html
CLASS:PUBLIC
END:VEVENT
END:VCALENDAR
