BEGIN:VCALENDAR
VERSION:2.0
CALSCALE:GREGORIAN
PRODID:-//Diputació de Barcelona//DibaCMS//EN
BEGIN:VEVENT
UID:2465
DTSTAMP:20260422T030141
DTSTART:20170608T000000
DTEND:20170608T000000
SUMMARY:PROGRAMA GENT GRAN ACTIVA: BALL AMB JORDI
LOCATION:
METHOD:PUBLISH
X-WR-CALNAME:info.pont@elpont.cat
X-WR-TIMEZONE:Europe/Madrid
DESCRIPTION:
URI:https://www.elpont.cat/actualitat/agenda/2465-programa-gent-gran-activa-ball-amb-jordi.html
CLASS:PUBLIC
END:VEVENT
END:VCALENDAR
