BEGIN:VCALENDAR
VERSION:2.0
CALSCALE:GREGORIAN
PRODID:-//Diputació de Barcelona//DibaCMS//EN
BEGIN:VEVENT
UID:2466
DTSTAMP:20260422T042737
DTSTART:20170608T000000
DTEND:20170608T000000
SUMMARY:XERRADA-TALLER D'ALIMENTACIÓ SALUDABLE
LOCATION:
METHOD:PUBLISH
X-WR-CALNAME:info.pont@elpont.cat
X-WR-TIMEZONE:Europe/Madrid
DESCRIPTION:L'objectiu d'aquesta jornada és orientar a pares i mares d'infants d'educació infantil per tal que millorin l’alimentació dels seus fills i filles.
 
Es pretén desmitificar conceptes erronis sobre alimentació infantil i ajudar-los a introduir conceptes d’alimentació equilibrada i fer disseny d’àpats saludables.
URI:https://www.elpont.cat/actualitat/agenda/xerrada-taller-dalimentacio-saludable.html
CLASS:PUBLIC
END:VEVENT
END:VCALENDAR
