BEGIN:VCALENDAR
VERSION:2.0
CALSCALE:GREGORIAN
PRODID:-//Diputació de Barcelona//DibaCMS//EN
BEGIN:VEVENT
UID:2468
DTSTAMP:20260422T063752
DTSTART:20170615T000000
DTEND:20170615T000000
SUMMARY:MOTIUS PER RECICLAR
LOCATION:
METHOD:PUBLISH
X-WR-CALNAME:info.pont@elpont.cat
X-WR-TIMEZONE:Europe/Madrid
DESCRIPTION:Tots tenim dret a una segona oportunitat, els objectes també.
URI:https://www.elpont.cat/actualitat/agenda/motius-per-reciclar.html
CLASS:PUBLIC
END:VEVENT
END:VCALENDAR
