BEGIN:VCALENDAR
VERSION:2.0
CALSCALE:GREGORIAN
PRODID:-//Diputació de Barcelona//DibaCMS//EN
BEGIN:VEVENT
UID:2469
DTSTAMP:20260422T042849
DTSTART:20170616T000000
DTEND:20170616T000000
SUMMARY:REUNIÓ DEL CF VILOMARA PREPARATÒRIA DE LA TEMPORADA 2017/2018
LOCATION:
METHOD:PUBLISH
X-WR-CALNAME:info.pont@elpont.cat
X-WR-TIMEZONE:Europe/Madrid
DESCRIPTION:Reunió adreçada a totes les famílies interessades per tal d'explicar el funcionament de la propera temporada al Club de Futbol Vilomara
URI:https://www.elpont.cat/actualitat/agenda/reunio-del-cf-vilomara-preparatoria-de-la-temporada-20172018.html
CLASS:PUBLIC
END:VEVENT
END:VCALENDAR
