BEGIN:VCALENDAR
VERSION:2.0
CALSCALE:GREGORIAN
PRODID:-//Diputació de Barcelona//DibaCMS//EN
BEGIN:VEVENT
UID:2470
DTSTAMP:20260422T042753
DTSTART:20170620T000000
DTEND:20170626T000000
SUMMARY:DIA MUNDIAL DE LES PERSONES REFUGIADES - EXPOSICIÓ FOTOGRÀFICA &quot;REFUGIATS, L'ODISSEA CAP A EUROPA&quot;
LOCATION:
METHOD:PUBLISH
X-WR-CALNAME:info.pont@elpont.cat
X-WR-TIMEZONE:Europe/Madrid
DESCRIPTION:Exposició del vigatà Sergi Càmara on se'ns mostra la perillosa i llarga ruta cap a Europa de molts refugiats.
URI:https://www.elpont.cat/actualitat/agenda/dia-mundial-de-les-persones-refugiades-exposicio-fotografica-andquotrefugiats-lodissea-cap-a-europaandquot.html
CLASS:PUBLIC
END:VEVENT
END:VCALENDAR
