BEGIN:VCALENDAR
VERSION:2.0
CALSCALE:GREGORIAN
PRODID:-//Diputació de Barcelona//DibaCMS//EN
BEGIN:VEVENT
UID:2471
DTSTAMP:20260422T031456
DTSTART:20170620T000000
DTEND:20170620T000000
SUMMARY:DIA MUNDIAL DE LES PERSONES REFUGIADES - LECTURA DEL CONTE &quot;EL VIAJE&quot;
LOCATION:
METHOD:PUBLISH
X-WR-CALNAME:info.pont@elpont.cat
X-WR-TIMEZONE:Europe/Madrid
DESCRIPTION:Lectura del conte "El Viaje" de Francesca Sanna.
 
Cartes i dibuixos per als nens refugiats.
 
Hi haurà un berenar de pobre.
URI:https://www.elpont.cat/actualitat/agenda/dia-mundial-de-les-persones-refugiades-lectura-del-conte-andquotel-viajeandquot.html
CLASS:PUBLIC
END:VEVENT
END:VCALENDAR
