BEGIN:VCALENDAR
VERSION:2.0
CALSCALE:GREGORIAN
PRODID:-//Diputació de Barcelona//DibaCMS//EN
BEGIN:VEVENT
UID:2473
DTSTAMP:20260422T015037
DTSTART:20170628T000000
DTEND:20170628T000000
SUMMARY:CURSETS DE NATACIÓ A LA PISCINA MUNICIPAL - DATA LÍMIT INSCRIPCIÓ
LOCATION:
METHOD:PUBLISH
X-WR-CALNAME:info.pont@elpont.cat
X-WR-TIMEZONE:Europe/Madrid
DESCRIPTION:
URI:https://www.elpont.cat/actualitat/agenda/cursets-de-natacio-a-la-piscina-municipal-data-limit-inscripcio.html
CLASS:PUBLIC
END:VEVENT
END:VCALENDAR
