BEGIN:VCALENDAR
VERSION:2.0
CALSCALE:GREGORIAN
PRODID:-//Diputació de Barcelona//DibaCMS//EN
BEGIN:VEVENT
UID:2474
DTSTAMP:20260422T031603
DTSTART:20170703T000000
DTEND:20170730T000000
SUMMARY:CURSETS DE NATACIÓ A LA PISCINA MUNICIPAL
LOCATION:
METHOD:PUBLISH
X-WR-CALNAME:info.pont@elpont.cat
X-WR-TIMEZONE:Europe/Madrid
DESCRIPTION:
URI:https://www.elpont.cat/actualitat/agenda/2474-cursets-de-natacio-a-la-piscina-municipal.html
CLASS:PUBLIC
END:VEVENT
END:VCALENDAR
