BEGIN:VCALENDAR
VERSION:2.0
CALSCALE:GREGORIAN
PRODID:-//Diputació de Barcelona//DibaCMS//EN
BEGIN:VEVENT
UID:2475
DTSTAMP:20260422T055831
DTSTART:20170710T000000
DTEND:20170710T000000
SUMMARY:PLE ORDINARI PER AL 10 DE JULIOL DE 2017
LOCATION:
METHOD:PUBLISH
X-WR-CALNAME:info.pont@elpont.cat
X-WR-TIMEZONE:Europe/Madrid
DESCRIPTION:
URI:https://www.elpont.cat/actualitat/agenda/2475-ple-ordinari-per-al-10-de-juliol-de-2017.html
CLASS:PUBLIC
END:VEVENT
END:VCALENDAR
