BEGIN:VCALENDAR
VERSION:2.0
CALSCALE:GREGORIAN
PRODID:-//Diputació de Barcelona//DibaCMS//EN
BEGIN:VEVENT
UID:2476
DTSTAMP:20260422T044546
DTSTART:20170714T000000
DTEND:20170714T000000
SUMMARY:FESTA MAJOR 2017 - SOPAR A LA FRESCA / BIKINADA
LOCATION:
METHOD:PUBLISH
X-WR-CALNAME:info.pont@elpont.cat
X-WR-TIMEZONE:Europe/Madrid
DESCRIPTION:
URI:https://www.elpont.cat/actualitat/agenda/festa-major-2017-sopar-a-la-fresca--bikinada.html
CLASS:PUBLIC
END:VEVENT
END:VCALENDAR
