BEGIN:VCALENDAR
VERSION:2.0
CALSCALE:GREGORIAN
PRODID:-//Diputació de Barcelona//DibaCMS//EN
BEGIN:VEVENT
UID:2480
DTSTAMP:20260422T043542
DTSTART:20170715T000000
DTEND:20170715T000000
SUMMARY:FESTA MAJOR 2017 - CINEMA A LA FRESCA &quot;ZOOTROPOLIS&quot;
LOCATION:
METHOD:PUBLISH
X-WR-CALNAME:info.pont@elpont.cat
X-WR-TIMEZONE:Europe/Madrid
DESCRIPTION:
URI:https://www.elpont.cat/actualitat/agenda/festa-major-2017-cinema-a-la-fresca-andquotzootropolisandquot.html
CLASS:PUBLIC
END:VEVENT
END:VCALENDAR
