BEGIN:VCALENDAR
VERSION:2.0
CALSCALE:GREGORIAN
PRODID:-//Diputació de Barcelona//DibaCMS//EN
BEGIN:VEVENT
UID:2481
DTSTAMP:20260422T060419
DTSTART:20170715T000000
DTEND:20170715T000000
SUMMARY:FESTA MAJOR 2017 - &quot;QUE TIEMPO TAN FELIZ&quot; - ESPECTACLE DE VARIETATS
LOCATION:
METHOD:PUBLISH
X-WR-CALNAME:info.pont@elpont.cat
X-WR-TIMEZONE:Europe/Madrid
DESCRIPTION:
URI:https://www.elpont.cat/actualitat/agenda/festa-major-2017-andquotque-tiempo-tan-felizandquot-espectacle-de-varietats.html
CLASS:PUBLIC
END:VEVENT
END:VCALENDAR
