BEGIN:VCALENDAR
VERSION:2.0
CALSCALE:GREGORIAN
PRODID:-//Diputació de Barcelona//DibaCMS//EN
BEGIN:VEVENT
UID:2482
DTSTAMP:20260422T043312
DTSTART:20170715T000000
DTEND:20170715T000000
SUMMARY:FESTA MAJOR 2017 - TALLER DE CIRC I ESPECTACLE FINAL A CÀRREC D'EN TASTACIRC
LOCATION:
METHOD:PUBLISH
X-WR-CALNAME:info.pont@elpont.cat
X-WR-TIMEZONE:Europe/Madrid
DESCRIPTION:Un pallasso alegre i divertit !
URI:https://www.elpont.cat/actualitat/agenda/festa-major-2017-taller-de-circ-i-espectacle-final-a-carrec-den-tastacirc.html
CLASS:PUBLIC
END:VEVENT
END:VCALENDAR
