BEGIN:VCALENDAR
VERSION:2.0
CALSCALE:GREGORIAN
PRODID:-//Diputació de Barcelona//DibaCMS//EN
BEGIN:VEVENT
UID:2483
DTSTAMP:20260422T054405
DTSTART:20170716T000000
DTEND:20170716T000000
SUMMARY:FESTA MAJOR 2017 - III GIMCANA INFANTIL
LOCATION:
METHOD:PUBLISH
X-WR-CALNAME:info.pont@elpont.cat
X-WR-TIMEZONE:Europe/Madrid
DESCRIPTION:Som súper Heroïnes i súper Herois!
Vine a posar a prova els teus súper poders passant un munt de proves divertidíssimes i finalitzant amb una gran festa de l'escuma! 
URI:https://www.elpont.cat/actualitat/agenda/festa-major-2017-iii-gimcana-infantil.html
CLASS:PUBLIC
END:VEVENT
END:VCALENDAR
