BEGIN:VCALENDAR
VERSION:2.0
CALSCALE:GREGORIAN
PRODID:-//Diputació de Barcelona//DibaCMS//EN
BEGIN:VEVENT
UID:2485
DTSTAMP:20260422T043327
DTSTART:20170716T000000
DTEND:20170716T000000
SUMMARY:FESTA MAJOR 2017 - XXIV CONCURS DE PINTURA
LOCATION:
METHOD:PUBLISH
X-WR-CALNAME:info.pont@elpont.cat
X-WR-TIMEZONE:Europe/Madrid
DESCRIPTION:Amb tècnica d'aqurel·la
URI:https://www.elpont.cat/actualitat/agenda/festa-major-2017-xxiv-concurs-de-pintura.html
CLASS:PUBLIC
END:VEVENT
END:VCALENDAR
