BEGIN:VCALENDAR
VERSION:2.0
CALSCALE:GREGORIAN
PRODID:-//Diputació de Barcelona//DibaCMS//EN
BEGIN:VEVENT
UID:2487
DTSTAMP:20260422T031816
DTSTART:20170720T000000
DTEND:20170720T000000
SUMMARY:FESTA MAJOR 2017 - SCAPE ROOM
LOCATION:
METHOD:PUBLISH
X-WR-CALNAME:info.pont@elpont.cat
X-WR-TIMEZONE:Europe/Madrid
DESCRIPTION:Activitat dirigida a joves i adults, també nens i nenes a partir de 10 anys acompanyats d'un adult.
URI:https://www.elpont.cat/actualitat/agenda/festa-major-2017-scape-room.html
CLASS:PUBLIC
END:VEVENT
END:VCALENDAR
