BEGIN:VCALENDAR
VERSION:2.0
CALSCALE:GREGORIAN
PRODID:-//Diputació de Barcelona//DibaCMS//EN
BEGIN:VEVENT
UID:2490
DTSTAMP:20260422T070519
DTSTART:20170721T000000
DTEND:20170721T000000
SUMMARY:FESTA MAJOR 2017 - BERENAR - BALL DE JUBILATS
LOCATION:
METHOD:PUBLISH
X-WR-CALNAME:info.pont@elpont.cat
X-WR-TIMEZONE:Europe/Madrid
DESCRIPTION:Amb el duet Doble Perfil.
 
Elecció de la Pubilla i l'Hereu jubilats
URI:https://www.elpont.cat/actualitat/agenda/festa-major-2017-berenar-ball-de-jubilats.html
CLASS:PUBLIC
END:VEVENT
END:VCALENDAR
