BEGIN:VCALENDAR
VERSION:2.0
CALSCALE:GREGORIAN
PRODID:-//Diputació de Barcelona//DibaCMS//EN
BEGIN:VEVENT
UID:2491
DTSTAMP:20260422T045209
DTSTART:20170721T000000
DTEND:20170721T000000
SUMMARY:FESTA MAJOR 2017 - SCAPE ROOM
LOCATION:
METHOD:PUBLISH
X-WR-CALNAME:info.pont@elpont.cat
X-WR-TIMEZONE:Europe/Madrid
DESCRIPTION:﻿Activitats dirigida a joves i adults, també a nens i nenes a partir de 10 anys acompanysts per un adult.
URI:https://www.elpont.cat/actualitat/agenda/2491-festa-major-2017-scape-room.html
CLASS:PUBLIC
END:VEVENT
END:VCALENDAR
