BEGIN:VCALENDAR
VERSION:2.0
CALSCALE:GREGORIAN
PRODID:-//Diputació de Barcelona//DibaCMS//EN
BEGIN:VEVENT
UID:2492
DTSTAMP:20260422T055012
DTSTART:20170721T000000
DTEND:20170721T000000
SUMMARY:FESTA MAJOR 2017 - DISCO BEACH PARTY
LOCATION:
METHOD:PUBLISH
X-WR-CALNAME:info.pont@elpont.cat
X-WR-TIMEZONE:Europe/Madrid
DESCRIPTION:
URI:https://www.elpont.cat/actualitat/agenda/festa-major-2017-disco-beach-party.html
CLASS:PUBLIC
END:VEVENT
END:VCALENDAR
