BEGIN:VCALENDAR
VERSION:2.0
CALSCALE:GREGORIAN
PRODID:-//Diputació de Barcelona//DibaCMS//EN
BEGIN:VEVENT
UID:2493
DTSTAMP:20260422T043705
DTSTART:20170721T000000
DTEND:20170721T000000
SUMMARY:FESTA MAJOR 2017 - CONCERT DE GÒSPEL
LOCATION:
METHOD:PUBLISH
X-WR-CALNAME:info.pont@elpont.cat
X-WR-TIMEZONE:Europe/Madrid
DESCRIPTION:A càrrec del grup "The River Troup Gospel"
URI:https://www.elpont.cat/actualitat/agenda/festa-major-2017-concert-de-gospel.html
CLASS:PUBLIC
END:VEVENT
END:VCALENDAR
