BEGIN:VCALENDAR
VERSION:2.0
CALSCALE:GREGORIAN
PRODID:-//Diputació de Barcelona//DibaCMS//EN
BEGIN:VEVENT
UID:2494
DTSTAMP:20260422T060106
DTSTART:20170721T000000
DTEND:20170721T000000
SUMMARY:FESTA MAJOR 2017 - SALUTACIÓ D'INICI DE LA FESTA MAJOR
LOCATION:
METHOD:PUBLISH
X-WR-CALNAME:info.pont@elpont.cat
X-WR-TIMEZONE:Europe/Madrid
DESCRIPTION:A càrrec de la Pubilla, la Dama i l'Hereu del Pont de Vilomara i Rocafort 2017
URI:https://www.elpont.cat/actualitat/agenda/festa-major-2017-salutacio-dinici-de-la-festa-major.html
CLASS:PUBLIC
END:VEVENT
END:VCALENDAR
