BEGIN:VCALENDAR
VERSION:2.0
CALSCALE:GREGORIAN
PRODID:-//Diputació de Barcelona//DibaCMS//EN
BEGIN:VEVENT
UID:2498
DTSTAMP:20260422T043558
DTSTART:20170722T000000
DTEND:20170722T000000
SUMMARY:FESTA MAJOR 2017 - KEEP CALM AND DANCE TECHNO VILOMARA 2017
LOCATION:
METHOD:PUBLISH
X-WR-CALNAME:info.pont@elpont.cat
X-WR-TIMEZONE:Europe/Madrid
DESCRIPTION:Fernanada Martins + artistes locals
URI:https://www.elpont.cat/actualitat/agenda/festa-major-2017-keep-calm-and-dance-techno-vilomara-2017.html
CLASS:PUBLIC
END:VEVENT
END:VCALENDAR
