BEGIN:VCALENDAR
VERSION:2.0
CALSCALE:GREGORIAN
PRODID:-//Diputació de Barcelona//DibaCMS//EN
BEGIN:VEVENT
UID:2501
DTSTAMP:20260422T005215
DTSTART:20170722T000000
DTEND:20170722T000000
SUMMARY:FESTA MAJOR 2017 - INAUGURACIÓ DE L'EXPOSICIÓ DE MANUALITATS
LOCATION:
METHOD:PUBLISH
X-WR-CALNAME:info.pont@elpont.cat
X-WR-TIMEZONE:Europe/Madrid
DESCRIPTION:
URI:https://www.elpont.cat/actualitat/agenda/festa-major-2017-inauguracio-de-lexposicio-de-manualitats.html
CLASS:PUBLIC
END:VEVENT
END:VCALENDAR
