BEGIN:VCALENDAR
VERSION:2.0
CALSCALE:GREGORIAN
PRODID:-//Diputació de Barcelona//DibaCMS//EN
BEGIN:VEVENT
UID:2507
DTSTAMP:20260422T015146
DTSTART:20170722T000000
DTEND:20170722T000000
SUMMARY:FESTA MAJOR 2017 - PASSEJADA CANINA PELS CARRERS DEL POBLE
LOCATION:
METHOD:PUBLISH
X-WR-CALNAME:info.pont@elpont.cat
X-WR-TIMEZONE:Europe/Madrid
DESCRIPTION:
URI:https://www.elpont.cat/actualitat/agenda/festa-major-2017-passejada-canina-pels-carrers-del-poble.html
CLASS:PUBLIC
END:VEVENT
END:VCALENDAR
