BEGIN:VCALENDAR
VERSION:2.0
CALSCALE:GREGORIAN
PRODID:-//Diputació de Barcelona//DibaCMS//EN
BEGIN:VEVENT
UID:2509
DTSTAMP:20260422T025545
DTSTART:20170723T000000
DTEND:20170723T000000
SUMMARY:FESTA MAJOR 2017 - OFICI SOLEMNE DE FESTA MAJOR
LOCATION:
METHOD:PUBLISH
X-WR-CALNAME:info.pont@elpont.cat
X-WR-TIMEZONE:Europe/Madrid
DESCRIPTION:Cantada pel Cor Parroquial Santa Maria Magdalena.
 
Amb el "Cant dels Goigs"
URI:https://www.elpont.cat/actualitat/agenda/festa-major-2017-ofici-solemne-de-festa-major.html
CLASS:PUBLIC
END:VEVENT
END:VCALENDAR
