BEGIN:VCALENDAR
VERSION:2.0
CALSCALE:GREGORIAN
PRODID:-//Diputació de Barcelona//DibaCMS//EN
BEGIN:VEVENT
UID:2510
DTSTAMP:20260422T025605
DTSTART:20170723T000000
DTEND:20170723T000000
SUMMARY:FESTA MAJOR 2017 - CERCAVILA
LOCATION:
METHOD:PUBLISH
X-WR-CALNAME:info.pont@elpont.cat
X-WR-TIMEZONE:Europe/Madrid
DESCRIPTION:A càrrec del Grup d'Infància i Joventut
URI:https://www.elpont.cat/actualitat/agenda/festa-major-2017-cercavila.html
CLASS:PUBLIC
END:VEVENT
END:VCALENDAR
