BEGIN:VCALENDAR
VERSION:2.0
CALSCALE:GREGORIAN
PRODID:-//Diputació de Barcelona//DibaCMS//EN
BEGIN:VEVENT
UID:2512
DTSTAMP:20260422T114949
DTSTART:20170723T000000
DTEND:20170723T000000
SUMMARY:FESTA MAJOR 2017 - MASTERCLASS LIVE2DANCE
LOCATION:
METHOD:PUBLISH
X-WR-CALNAME:info.pont@elpont.cat
X-WR-TIMEZONE:Europe/Madrid
DESCRIPTION:La millor activitat per treballar el teu cos i cremar calories tot ballant amb els millors ritmes dels 80 fins als hits actuals.
A càrrec de Lluís Vall.
URI:https://www.elpont.cat/actualitat/agenda/festa-major-2017-masterclass-live2dance.html
CLASS:PUBLIC
END:VEVENT
END:VCALENDAR
